BEGIN:VCALENDAR
VERSION:2.0
PRODID:-//Manitoba Fiddle Association//EN
CALSCALE:GREGORIAN
METHOD:PUBLISH
X-WR-CALNAME:Manitoba Fiddle Association
BEGIN:VEVENT
UID:canadian-grand-masters-2026-08@www.mbfiddleassociation.org
DTSTAMP:20260422T223248Z
DTSTART;VALUE=DATE:20260828
DTEND;VALUE=DATE:20260830
SUMMARY:Canadian Grand Masters Fiddle Championship 2026
LOCATION:Highwood Centre\, High River\, AB
DESCRIPTION:The Canadian Grand Masters Fiddle Championship takes place Augu
 st 28–29\, 2026 in High River\, Alberta. To enter the Championship class\,
  contestants submit a video for review by the Canadian Grand Masters Board
 . For more information or to purchase tickets\, visit the event website.
URL:https://www.mbfiddleassociation.org/en/events/canadian-grand-masters-20
 26-08
CATEGORIES:COMPETITION
END:VEVENT
END:VCALENDAR
