BEGIN:VCALENDAR
VERSION:2.0
PRODID:-//Manitoba Fiddle Association//EN
CALSCALE:GREGORIAN
METHOD:PUBLISH
X-WR-CALNAME:Manitoba Fiddle Association
BEGIN:VEVENT
UID:grand-north-american-old-time-fiddle-2026-07@www.mbfiddleassociation.or
 g
DTSTAMP:20260422T223248Z
DTSTART;VALUE=DATE:20260716
DTEND;VALUE=DATE:20260720
SUMMARY:Grand North American Old Time Fiddle Championships 2026
LOCATION:Dow Centennial Centre\, Fort Saskatchewan\, AB
DESCRIPTION:The Grand North American Old Time Fiddle Championships return t
 o Fort Saskatchewan\, Alberta\, July 16–19\, 2026\, hosted annually by the
  Wild Rose Old Tyme Fiddlers Association. Over $16\,000 in prize money is 
 on the line across the contest divisions. Register as a contestant or buy 
 tickets on the festival website.
URL:https://www.mbfiddleassociation.org/en/events/grand-north-american-old-
 time-fiddle-2026-07
CATEGORIES:COMPETITION,FESTIVAL
END:VEVENT
END:VCALENDAR
