BEGIN:VCALENDAR
VERSION:2.0
PRODID:-//Manitoba Fiddle Association//EN
CALSCALE:GREGORIAN
METHOD:PUBLISH
X-WR-CALNAME:Manitoba Fiddle Association
BEGIN:VEVENT
UID:wall-of-fame-inductees-ceremony-2026-04@www.mbfiddleassociation.org
DTSTAMP:20260422T223247Z
DTSTART:20260426T190000Z
SUMMARY:Wall of Fame Inductees' Ceremony 2026
LOCATION:Carman Community Hall\, Carman MB
DESCRIPTION:Organize your carpool and wear your “gold slippers” to enjoy lo
 ts of dancing to the old-time fiddle music. Please come to support the hon
 ourees for 2026.\n\nFiddlers\n\nBoris Nowosad — Dauphin\, MB\n\nMike Kosty
 nyk — Sundown\, MB\n\nBill Delorme (posthumous) — Pilot Mound\, MB\n\nBuil
 der\n\nDaria Watkin — Winnipeg\, MB\n\nAdmission & details\n\nDoors open a
 t 1:00 PM\n\nTickets at the door: $15.00 — 16 and under free\n\nCatered su
 pper TBA\n\nSurface parking\, including accessible stalls
URL:https://www.mbfiddleassociation.org/en/events/wall-of-fame-inductees-ce
 remony-2026-04
CATEGORIES:CONCERT
END:VEVENT
END:VCALENDAR
